BEGIN:VCALENDAR
VERSION:2.0
PRODID:-//hacksw/handcal//NONSGML v1.0//EN
BEGIN:VEVENT
SUMMARY:JEUNES  | PONTIVY TT2 / CS QUEVEN 2
UID:b6029984-5b64-4246-89b6-8c65eaa12113
DTSTART:20260411T120000Z
DTEND:20260411T150000Z
LOCATION:Complexe sportif de Saint-Thuriau 6B Place de l'Eglise 56300 Saint-Thuriau
CATEGORIES:Sportif
STATUS:
URL;VALUE=URI:https://www.pontivy-tennisdetable.com/evenements/2026/04/11/jeunes-pontivy-tt2-cs-queven-2-2439957
END:VEVENT
END:VCALENDAR
