BEGIN:VCALENDAR
VERSION:2.0
PRODID:-//hacksw/handcal//NONSGML v1.0//EN
BEGIN:VEVENT
SUMMARY:J5-P2 | PONTIVY TT 6 / BAUD TT4
UID:bb86f2f5-b1b5-4f60-ac3f-89ec614a4bc1
DTSTART:20260408T183000Z
DTEND:20260408T214500Z
LOCATION:Localisation   
CATEGORIES:Sportif
STATUS:
URL;VALUE=URI:https://www.pontivy-tennisdetable.com/evenements/2026/04/08/j5-p2-pontivy-tt-6-baud-tt4-2439955
END:VEVENT
END:VCALENDAR
