BEGIN:VCALENDAR
VERSION:2.0
PRODID:-//hacksw/handcal//NONSGML v1.0//EN
BEGIN:VEVENT
SUMMARY:J5-P2 | PONTIVY TT 3 / PONT-SCORFF/GESTEL TT2
UID:13068318-f680-45dc-8e5b-c8d37dda88b7
DTSTART:20260408T183000Z
DTEND:20260408T214500Z
LOCATION:Localisation   
CATEGORIES:Sportif
STATUS:
URL;VALUE=URI:https://www.pontivy-tennisdetable.com/evenements/2026/04/08/j5-p2-pontivy-tt-3-pont-scorffgestel-tt2-2439952
END:VEVENT
END:VCALENDAR
